BEGIN:VCALENDAR
VERSION:2.0
PRODID:-//Epilepsy Alliance America - ECPv6.15.17.1//NONSGML v1.0//EN
CALSCALE:GREGORIAN
METHOD:PUBLISH
X-WR-CALNAME:Epilepsy Alliance America
X-ORIGINAL-URL:https://epilepsyallianceamerica.org
X-WR-CALDESC:Events for Epilepsy Alliance America
REFRESH-INTERVAL;VALUE=DURATION:PT1H
X-Robots-Tag:noindex
X-PUBLISHED-TTL:PT1H
BEGIN:VTIMEZONE
TZID:America/New_York
BEGIN:DAYLIGHT
TZOFFSETFROM:-0500
TZOFFSETTO:-0400
TZNAME:EDT
DTSTART:20250309T070000
END:DAYLIGHT
BEGIN:STANDARD
TZOFFSETFROM:-0400
TZOFFSETTO:-0500
TZNAME:EST
DTSTART:20251102T060000
END:STANDARD
BEGIN:DAYLIGHT
TZOFFSETFROM:-0500
TZOFFSETTO:-0400
TZNAME:EDT
DTSTART:20260308T070000
END:DAYLIGHT
BEGIN:STANDARD
TZOFFSETFROM:-0400
TZOFFSETTO:-0500
TZNAME:EST
DTSTART:20261101T060000
END:STANDARD
BEGIN:DAYLIGHT
TZOFFSETFROM:-0500
TZOFFSETTO:-0400
TZNAME:EDT
DTSTART:20270314T070000
END:DAYLIGHT
BEGIN:STANDARD
TZOFFSETFROM:-0400
TZOFFSETTO:-0500
TZNAME:EST
DTSTART:20271107T060000
END:STANDARD
END:VTIMEZONE
BEGIN:VEVENT
DTSTART;TZID=America/New_York:20260620T080000
DTEND;TZID=America/New_York:20260620T120000
DTSTAMP:20260424T045926
CREATED:20260322T222116Z
LAST-MODIFIED:20260322T222123Z
UID:10003738-1781942400-1781956800@epilepsyallianceamerica.org
SUMMARY:Family Fun Run/Walk for Epilepsy: Pittsburgh
DESCRIPTION:The 38th Annual Pittsburgh Family Fun Run/Walk for Epilepsy\, hosted by Epilepsy Association of Western and Central Pennsylvania \nRegister: https://p2p.onecause.com/epilepsy
URL:https://epilepsyallianceamerica.org/event/family-fun-run-walk-for-epilepsy-pittsburgh/
LOCATION:PNC Park\, 115 Federal Street\, Pittsburgh\, Pennsylvania\, 15212
CATEGORIES:Fundraising Event,Walk Event
ATTACH;FMTTYPE=image/png:https://epilepsyallianceamerica.org/wp-content/uploads/2025/03/Walk.png
END:VEVENT
BEGIN:VEVENT
DTSTART;TZID=America/New_York:20260801T080000
DTEND;TZID=America/New_York:20260801T120000
DTSTAMP:20260424T045926
CREATED:20260322T222500Z
LAST-MODIFIED:20260322T222500Z
UID:10003739-1785571200-1785585600@epilepsyallianceamerica.org
SUMMARY:Family Fun Run/Walk for Epilepsy: Harrisburg
DESCRIPTION:The 24th Annual Harrisburg Family Fun Run/Walk for Epilepsy\, hosted by Epilepsy Association of Western and Central PA. \nRegister here: https://p2p.onecause.com/epilepsywalk
URL:https://epilepsyallianceamerica.org/event/family-fun-run-walk-for-epilepsy-harrisburg/
LOCATION:FNB Field\, 245 Championship Way\, Harrisburg\, Pennsylvania\, 17101
CATEGORIES:Fundraising Event,Walk Event
ATTACH;FMTTYPE=image/png:https://epilepsyallianceamerica.org/wp-content/uploads/2025/03/Walk.png
END:VEVENT
END:VCALENDAR