BEGIN:VCALENDAR
VERSION:2.0
PRODID:-//Epilepsy Alliance America - ECPv6.15.17.1//NONSGML v1.0//EN
CALSCALE:GREGORIAN
METHOD:PUBLISH
X-WR-CALNAME:Epilepsy Alliance America
X-ORIGINAL-URL:https://epilepsyallianceamerica.org
X-WR-CALDESC:Events for Epilepsy Alliance America
REFRESH-INTERVAL;VALUE=DURATION:PT1H
X-Robots-Tag:noindex
X-PUBLISHED-TTL:PT1H
BEGIN:VTIMEZONE
TZID:America/Los_Angeles
BEGIN:DAYLIGHT
TZOFFSETFROM:-0800
TZOFFSETTO:-0700
TZNAME:PDT
DTSTART:20250309T100000
END:DAYLIGHT
BEGIN:STANDARD
TZOFFSETFROM:-0700
TZOFFSETTO:-0800
TZNAME:PST
DTSTART:20251102T090000
END:STANDARD
BEGIN:DAYLIGHT
TZOFFSETFROM:-0800
TZOFFSETTO:-0700
TZNAME:PDT
DTSTART:20260308T100000
END:DAYLIGHT
BEGIN:STANDARD
TZOFFSETFROM:-0700
TZOFFSETTO:-0800
TZNAME:PST
DTSTART:20261101T090000
END:STANDARD
BEGIN:DAYLIGHT
TZOFFSETFROM:-0800
TZOFFSETTO:-0700
TZNAME:PDT
DTSTART:20270314T100000
END:DAYLIGHT
BEGIN:STANDARD
TZOFFSETFROM:-0700
TZOFFSETTO:-0800
TZNAME:PST
DTSTART:20271107T090000
END:STANDARD
END:VTIMEZONE
BEGIN:VTIMEZONE
TZID:America/Chicago
BEGIN:DAYLIGHT
TZOFFSETFROM:-0600
TZOFFSETTO:-0500
TZNAME:CDT
DTSTART:20250309T080000
END:DAYLIGHT
BEGIN:STANDARD
TZOFFSETFROM:-0500
TZOFFSETTO:-0600
TZNAME:CST
DTSTART:20251102T070000
END:STANDARD
BEGIN:DAYLIGHT
TZOFFSETFROM:-0600
TZOFFSETTO:-0500
TZNAME:CDT
DTSTART:20260308T080000
END:DAYLIGHT
BEGIN:STANDARD
TZOFFSETFROM:-0500
TZOFFSETTO:-0600
TZNAME:CST
DTSTART:20261101T070000
END:STANDARD
BEGIN:DAYLIGHT
TZOFFSETFROM:-0600
TZOFFSETTO:-0500
TZNAME:CDT
DTSTART:20270314T080000
END:DAYLIGHT
BEGIN:STANDARD
TZOFFSETFROM:-0500
TZOFFSETTO:-0600
TZNAME:CST
DTSTART:20271107T070000
END:STANDARD
END:VTIMEZONE
BEGIN:VTIMEZONE
TZID:America/New_York
BEGIN:DAYLIGHT
TZOFFSETFROM:-0500
TZOFFSETTO:-0400
TZNAME:EDT
DTSTART:20250309T070000
END:DAYLIGHT
BEGIN:STANDARD
TZOFFSETFROM:-0400
TZOFFSETTO:-0500
TZNAME:EST
DTSTART:20251102T060000
END:STANDARD
BEGIN:DAYLIGHT
TZOFFSETFROM:-0500
TZOFFSETTO:-0400
TZNAME:EDT
DTSTART:20260308T070000
END:DAYLIGHT
BEGIN:STANDARD
TZOFFSETFROM:-0400
TZOFFSETTO:-0500
TZNAME:EST
DTSTART:20261101T060000
END:STANDARD
BEGIN:DAYLIGHT
TZOFFSETFROM:-0500
TZOFFSETTO:-0400
TZNAME:EDT
DTSTART:20270314T070000
END:DAYLIGHT
BEGIN:STANDARD
TZOFFSETFROM:-0400
TZOFFSETTO:-0500
TZNAME:EST
DTSTART:20271107T060000
END:STANDARD
END:VTIMEZONE
BEGIN:VEVENT
DTSTART;TZID=America/Los_Angeles:20260419T180000
DTEND;TZID=America/Los_Angeles:20260419T190000
DTSTAMP:20260420T052204
CREATED:20251002T152259Z
LAST-MODIFIED:20251002T190105Z
UID:10003215-1776621600-1776625200@epilepsyallianceamerica.org
SUMMARY:Men's Peer Support Group
DESCRIPTION:The YAWE Men’s Group\, led by Austin\, is a place for young men with epilepsy to come together\, connect\, and support one another.\n\nJust like our other YAWE groups\, the format is open and friendly — but this group also makes space for conversations about experiences that are unique to men. It’s a welcoming community where guys can share\, listen\, and know they’re not alone.\n\n\nHosted by Young Adults With Epilepsy
URL:https://epilepsyallianceamerica.org/event/mens-peer-support-group/2026-04-19/
CATEGORIES:Support Group
ATTACH;FMTTYPE=image/png:https://epilepsyallianceamerica.org/wp-content/uploads/2025/03/Support-Group-2.png
END:VEVENT
BEGIN:VEVENT
DTSTART;TZID=America/Los_Angeles:20260416T180000
DTEND;TZID=America/Los_Angeles:20260416T190000
DTSTAMP:20260420T052204
CREATED:20250723T174551Z
LAST-MODIFIED:20250819T195723Z
UID:10002515-1776362400-1776366000@epilepsyallianceamerica.org
SUMMARY:Young Adult Peer Support Group
DESCRIPTION:Join our one-hour virtual weekly hang-outs with Austin to laugh\, cry\, listen\, or just simply connect with people who “get it”. \nRegister here \n \nHosted by Young Adults With Epilepsy
URL:https://epilepsyallianceamerica.org/event/young-adults-peer-support-group/2026-04-16/
CATEGORIES:Support Group
ATTACH;FMTTYPE=image/png:https://epilepsyallianceamerica.org/wp-content/uploads/2025/03/Support-Group-2.png
END:VEVENT
BEGIN:VEVENT
DTSTART;TZID=America/Los_Angeles:20260416T170000
DTEND;TZID=America/Los_Angeles:20260416T180000
DTSTAMP:20260420T052204
CREATED:20251020T165052Z
LAST-MODIFIED:20251020T165122Z
UID:10003479-1776358800-1776362400@epilepsyallianceamerica.org
SUMMARY:Women's Support Group - Young Adults with Epilepsy
DESCRIPTION:The YAWE Women’s Group\, led by Jordan\, is a place for young women with epilepsy to come together\, connect\, and share their life experiences.Just like our other YAWE groups\, the format is open and friendly — but this group makes space for conversations about experiences that are unique to women such as hormones\, motherhood\, and stigma in the medical system. It’s a welcoming community where women can share\, listen\, and know they’re not alone.\nRegister here
URL:https://epilepsyallianceamerica.org/event/womens-support-group-young-adults-with-epilepsy/2026-04-16/
CATEGORIES:Support Group
ATTACH;FMTTYPE=image/png:https://epilepsyallianceamerica.org/wp-content/uploads/2025/03/Support-Group-2.png
LOCATION:
END:VEVENT
BEGIN:VEVENT
DTSTART;TZID=America/Los_Angeles:20260415T173000
DTEND;TZID=America/Los_Angeles:20260415T183000
DTSTAMP:20260420T052204
CREATED:20250716T182224Z
LAST-MODIFIED:20250819T195328Z
UID:10002255-1776274200-1776277800@epilepsyallianceamerica.org
SUMMARY:Young Adult Peer Support Group
DESCRIPTION:Join our one-hour virtual weekly hang-outs to laugh\, cry\, listen\, or just simply connect with people who “get it”. \nRegister here \n \nHosted by Young Adults With Epilepsy
URL:https://epilepsyallianceamerica.org/event/young-adult-support-group-2/2026-04-15/
CATEGORIES:Support Group
ATTACH;FMTTYPE=image/png:https://epilepsyallianceamerica.org/wp-content/uploads/2025/03/Support-Group-2.png
END:VEVENT
BEGIN:VEVENT
DTSTART;TZID=America/Chicago:20260414T170000
DTEND;TZID=America/Chicago:20260414T180000
DTSTAMP:20260420T052204
CREATED:20250407T151803Z
LAST-MODIFIED:20250408T210551Z
UID:10001377-1776186000-1776189600@epilepsyallianceamerica.org
SUMMARY:In Person Support Group: Springfield\, IL
DESCRIPTION:In person support group hosted by Epilepsy Advocacy Network on the 2nd Tuesday of each month at 5 pm.
URL:https://epilepsyallianceamerica.org/event/in-person-support-group-springfield-il/2026-04-14/
CATEGORIES:Support Group
ATTACH;FMTTYPE=image/png:https://epilepsyallianceamerica.org/wp-content/uploads/2025/03/Support-Group-1.png
END:VEVENT
BEGIN:VEVENT
DTSTART;TZID=America/Los_Angeles:20260414T163000
DTEND;TZID=America/Los_Angeles:20260414T173000
DTSTAMP:20260420T052204
CREATED:20250714T201748Z
LAST-MODIFIED:20250916T191543Z
UID:10001788-1776184200-1776187800@epilepsyallianceamerica.org
SUMMARY:Young Adult Peer Support Group
DESCRIPTION:Join our one-hour virtual weekly hang-outs to laugh\, cry\, listen\, or just simply connect with people who “get it”. \n \nRegister here \nHosted by Young Adults With Epilepsy \n 
URL:https://epilepsyallianceamerica.org/event/young-adult-support-group/2026-04-14/
CATEGORIES:Support Group
ATTACH;FMTTYPE=image/png:https://epilepsyallianceamerica.org/wp-content/uploads/2025/03/Support-Group-2.png
LOCATION:
END:VEVENT
BEGIN:VEVENT
DTSTART;TZID=America/Los_Angeles:20260413T173000
DTEND;TZID=America/Los_Angeles:20260413T183000
DTSTAMP:20260420T052204
CREATED:20250714T201358Z
LAST-MODIFIED:20250819T195624Z
UID:10001697-1776101400-1776105000@epilepsyallianceamerica.org
SUMMARY:Young Adult Peer Support Group - Spanish
DESCRIPTION:Lunes Grupo de Apoyo\n\nÚnete a nuestros encuentros virtuales semanales de una hora para reír\, llorar\, escuchar o simplemente conectar con personas que “lo entienden”. \nHosted by Young Adults With Epilepsy 
URL:https://epilepsyallianceamerica.org/event/young-adult-support-group-spanish/2026-04-13/
CATEGORIES:Support Group
ATTACH;FMTTYPE=image/png:https://epilepsyallianceamerica.org/wp-content/uploads/2025/03/Support-Group-2.png
END:VEVENT
BEGIN:VEVENT
DTSTART;TZID=America/Los_Angeles:20260413T170000
DTEND;TZID=America/Los_Angeles:20260413T180000
DTSTAMP:20260420T052204
CREATED:20250819T195103Z
LAST-MODIFIED:20250821T143033Z
UID:10002819-1776099600-1776103200@epilepsyallianceamerica.org
SUMMARY:Young Adult Peer Support Group
DESCRIPTION:Join our one-hour virtual weekly hang-outs to laugh\, cry\, listen\, or just simply connect with people who ‘get it.’ Our virtual support groups provide a safe space to share experiences with others living with epilepsy. \nRegister here
URL:https://epilepsyallianceamerica.org/event/peer-support-group-young-adults/2026-04-13/
CATEGORIES:Support Group
ATTACH;FMTTYPE=image/png:https://epilepsyallianceamerica.org/wp-content/uploads/2025/03/Support-Group-2.png
END:VEVENT
BEGIN:VEVENT
DTSTART;TZID=America/Los_Angeles:20260412T180000
DTEND;TZID=America/Los_Angeles:20260412T190000
DTSTAMP:20260420T052204
CREATED:20251002T152259Z
LAST-MODIFIED:20251002T190105Z
UID:10003214-1776016800-1776020400@epilepsyallianceamerica.org
SUMMARY:Men's Peer Support Group
DESCRIPTION:The YAWE Men’s Group\, led by Austin\, is a place for young men with epilepsy to come together\, connect\, and support one another.\n\nJust like our other YAWE groups\, the format is open and friendly — but this group also makes space for conversations about experiences that are unique to men. It’s a welcoming community where guys can share\, listen\, and know they’re not alone.\n\n\nHosted by Young Adults With Epilepsy
URL:https://epilepsyallianceamerica.org/event/mens-peer-support-group/2026-04-12/
CATEGORIES:Support Group
ATTACH;FMTTYPE=image/png:https://epilepsyallianceamerica.org/wp-content/uploads/2025/03/Support-Group-2.png
END:VEVENT
BEGIN:VEVENT
DTSTART;TZID=America/Los_Angeles:20260409T180000
DTEND;TZID=America/Los_Angeles:20260409T190000
DTSTAMP:20260420T052204
CREATED:20250723T174551Z
LAST-MODIFIED:20250819T195723Z
UID:10002514-1775757600-1775761200@epilepsyallianceamerica.org
SUMMARY:Young Adult Peer Support Group
DESCRIPTION:Join our one-hour virtual weekly hang-outs with Austin to laugh\, cry\, listen\, or just simply connect with people who “get it”. \nRegister here \n \nHosted by Young Adults With Epilepsy
URL:https://epilepsyallianceamerica.org/event/young-adults-peer-support-group/2026-04-09/
CATEGORIES:Support Group
ATTACH;FMTTYPE=image/png:https://epilepsyallianceamerica.org/wp-content/uploads/2025/03/Support-Group-2.png
END:VEVENT
BEGIN:VEVENT
DTSTART;TZID=America/Los_Angeles:20260409T170000
DTEND;TZID=America/Los_Angeles:20260409T180000
DTSTAMP:20260420T052204
CREATED:20251020T165052Z
LAST-MODIFIED:20251020T165122Z
UID:10003478-1775754000-1775757600@epilepsyallianceamerica.org
SUMMARY:Women's Support Group - Young Adults with Epilepsy
DESCRIPTION:The YAWE Women’s Group\, led by Jordan\, is a place for young women with epilepsy to come together\, connect\, and share their life experiences.Just like our other YAWE groups\, the format is open and friendly — but this group makes space for conversations about experiences that are unique to women such as hormones\, motherhood\, and stigma in the medical system. It’s a welcoming community where women can share\, listen\, and know they’re not alone.\nRegister here
URL:https://epilepsyallianceamerica.org/event/womens-support-group-young-adults-with-epilepsy/2026-04-09/
CATEGORIES:Support Group
ATTACH;FMTTYPE=image/png:https://epilepsyallianceamerica.org/wp-content/uploads/2025/03/Support-Group-2.png
LOCATION:
END:VEVENT
BEGIN:VEVENT
DTSTART;TZID=America/Los_Angeles:20260408T173000
DTEND;TZID=America/Los_Angeles:20260408T183000
DTSTAMP:20260420T052204
CREATED:20250716T182224Z
LAST-MODIFIED:20250819T195328Z
UID:10002254-1775669400-1775673000@epilepsyallianceamerica.org
SUMMARY:Young Adult Peer Support Group
DESCRIPTION:Join our one-hour virtual weekly hang-outs to laugh\, cry\, listen\, or just simply connect with people who “get it”. \nRegister here \n \nHosted by Young Adults With Epilepsy
URL:https://epilepsyallianceamerica.org/event/young-adult-support-group-2/2026-04-08/
CATEGORIES:Support Group
ATTACH;FMTTYPE=image/png:https://epilepsyallianceamerica.org/wp-content/uploads/2025/03/Support-Group-2.png
END:VEVENT
BEGIN:VEVENT
DTSTART;TZID=America/New_York:20260407T183000
DTEND;TZID=America/New_York:20260407T200000
DTSTAMP:20260420T052204
CREATED:20250529T152753Z
LAST-MODIFIED:20250529T152753Z
UID:10001562-1775586600-1775592000@epilepsyallianceamerica.org
SUMMARY:Virtual Support Group
DESCRIPTION:Join JoshProvides for their virtual support group\, held on the 1st and 3rd Tuesdays of each month. Contact info@joshprovides.org to register.
URL:https://epilepsyallianceamerica.org/event/virtual-support-group/2026-04-07/
CATEGORIES:Support Group
ATTACH;FMTTYPE=image/png:https://epilepsyallianceamerica.org/wp-content/uploads/2025/03/Support-Group-2.png
END:VEVENT
BEGIN:VEVENT
DTSTART;TZID=America/Chicago:20260407T173000
DTEND;TZID=America/Chicago:20260407T183000
DTSTAMP:20260420T052204
CREATED:20250606T185633Z
LAST-MODIFIED:20250930T205128Z
UID:10001622-1775583000-1775586600@epilepsyallianceamerica.org
SUMMARY:Epilepsy Support Group
DESCRIPTION:Open to anyone impacted by epilepsy\, this group can be joined in-person or virtually\, the first Tuesday of every month. \nIn person: Carle South Clinic – 6th floor conference room\, 602 W. University Ave Urbana\, IL 61801 \nVirtual: Scan the QR code above \nHosted by Epilepsy Advocacy Network
URL:https://epilepsyallianceamerica.org/event/epilepsy-support-group/2026-04-07/
CATEGORIES:Support Group
ATTACH;FMTTYPE=image/png:https://epilepsyallianceamerica.org/wp-content/uploads/2025/03/Support-Group-2.png
END:VEVENT
BEGIN:VEVENT
DTSTART;TZID=America/Los_Angeles:20260407T163000
DTEND;TZID=America/Los_Angeles:20260407T173000
DTSTAMP:20260420T052204
CREATED:20250714T201748Z
LAST-MODIFIED:20250916T191543Z
UID:10001787-1775579400-1775583000@epilepsyallianceamerica.org
SUMMARY:Young Adult Peer Support Group
DESCRIPTION:Join our one-hour virtual weekly hang-outs to laugh\, cry\, listen\, or just simply connect with people who “get it”. \n \nRegister here \nHosted by Young Adults With Epilepsy \n 
URL:https://epilepsyallianceamerica.org/event/young-adult-support-group/2026-04-07/
CATEGORIES:Support Group
ATTACH;FMTTYPE=image/png:https://epilepsyallianceamerica.org/wp-content/uploads/2025/03/Support-Group-2.png
LOCATION:
END:VEVENT
BEGIN:VEVENT
DTSTART;TZID=America/Los_Angeles:20260406T173000
DTEND;TZID=America/Los_Angeles:20260406T183000
DTSTAMP:20260420T052204
CREATED:20250714T201358Z
LAST-MODIFIED:20250819T195624Z
UID:10002039-1775496600-1775500200@epilepsyallianceamerica.org
SUMMARY:Young Adult Peer Support Group - Spanish
DESCRIPTION:Lunes Grupo de Apoyo\n\nÚnete a nuestros encuentros virtuales semanales de una hora para reír\, llorar\, escuchar o simplemente conectar con personas que “lo entienden”. \nHosted by Young Adults With Epilepsy 
URL:https://epilepsyallianceamerica.org/event/young-adult-support-group-spanish/2026-04-06/
CATEGORIES:Support Group
ATTACH;FMTTYPE=image/png:https://epilepsyallianceamerica.org/wp-content/uploads/2025/03/Support-Group-2.png
END:VEVENT
BEGIN:VEVENT
DTSTART;TZID=America/Los_Angeles:20260406T170000
DTEND;TZID=America/Los_Angeles:20260406T180000
DTSTAMP:20260420T052204
CREATED:20250819T195103Z
LAST-MODIFIED:20250821T143033Z
UID:10002818-1775494800-1775498400@epilepsyallianceamerica.org
SUMMARY:Young Adult Peer Support Group
DESCRIPTION:Join our one-hour virtual weekly hang-outs to laugh\, cry\, listen\, or just simply connect with people who ‘get it.’ Our virtual support groups provide a safe space to share experiences with others living with epilepsy. \nRegister here
URL:https://epilepsyallianceamerica.org/event/peer-support-group-young-adults/2026-04-06/
CATEGORIES:Support Group
ATTACH;FMTTYPE=image/png:https://epilepsyallianceamerica.org/wp-content/uploads/2025/03/Support-Group-2.png
END:VEVENT
BEGIN:VEVENT
DTSTART;TZID=America/Los_Angeles:20260405T180000
DTEND;TZID=America/Los_Angeles:20260405T190000
DTSTAMP:20260420T052204
CREATED:20251002T152259Z
LAST-MODIFIED:20251002T190105Z
UID:10003213-1775412000-1775415600@epilepsyallianceamerica.org
SUMMARY:Men's Peer Support Group
DESCRIPTION:The YAWE Men’s Group\, led by Austin\, is a place for young men with epilepsy to come together\, connect\, and support one another.\n\nJust like our other YAWE groups\, the format is open and friendly — but this group also makes space for conversations about experiences that are unique to men. It’s a welcoming community where guys can share\, listen\, and know they’re not alone.\n\n\nHosted by Young Adults With Epilepsy
URL:https://epilepsyallianceamerica.org/event/mens-peer-support-group/2026-04-05/
CATEGORIES:Support Group
ATTACH;FMTTYPE=image/png:https://epilepsyallianceamerica.org/wp-content/uploads/2025/03/Support-Group-2.png
END:VEVENT
BEGIN:VEVENT
DTSTART;TZID=America/Chicago:20260402T183000
DTEND;TZID=America/Chicago:20260402T193000
DTSTAMP:20260420T052204
CREATED:20250203T220836Z
LAST-MODIFIED:20250930T204951Z
UID:10000723-1775154600-1775158200@epilepsyallianceamerica.org
SUMMARY:Virtual Support Group
DESCRIPTION:Join us the first Thursday of every month for our virtual epilepsy support group! \nhttps://us02web.zoom.us/j/86915441354 \nHosted by Epilepsy Advocacy Network.  \n 
URL:https://epilepsyallianceamerica.org/event/virtual-epilepsy-support-group-2/2026-04-02/
CATEGORIES:Support Group
ATTACH;FMTTYPE=image/png:https://epilepsyallianceamerica.org/wp-content/uploads/2025/02/Virtual-Support-Group.png
LOCATION:https://epilepsyallianceamerica.org/event/virtual-epilepsy-support-group-2/2026-04-02/
END:VEVENT
BEGIN:VEVENT
DTSTART;TZID=America/Los_Angeles:20260402T180000
DTEND;TZID=America/Los_Angeles:20260402T190000
DTSTAMP:20260420T052204
CREATED:20250723T174551Z
LAST-MODIFIED:20250819T195723Z
UID:10002513-1775152800-1775156400@epilepsyallianceamerica.org
SUMMARY:Young Adult Peer Support Group
DESCRIPTION:Join our one-hour virtual weekly hang-outs with Austin to laugh\, cry\, listen\, or just simply connect with people who “get it”. \nRegister here \n \nHosted by Young Adults With Epilepsy
URL:https://epilepsyallianceamerica.org/event/young-adults-peer-support-group/2026-04-02/
CATEGORIES:Support Group
ATTACH;FMTTYPE=image/png:https://epilepsyallianceamerica.org/wp-content/uploads/2025/03/Support-Group-2.png
END:VEVENT
BEGIN:VEVENT
DTSTART;TZID=America/Los_Angeles:20260402T170000
DTEND;TZID=America/Los_Angeles:20260402T180000
DTSTAMP:20260420T052204
CREATED:20251020T165052Z
LAST-MODIFIED:20251020T165122Z
UID:10003477-1775149200-1775152800@epilepsyallianceamerica.org
SUMMARY:Women's Support Group - Young Adults with Epilepsy
DESCRIPTION:The YAWE Women’s Group\, led by Jordan\, is a place for young women with epilepsy to come together\, connect\, and share their life experiences.Just like our other YAWE groups\, the format is open and friendly — but this group makes space for conversations about experiences that are unique to women such as hormones\, motherhood\, and stigma in the medical system. It’s a welcoming community where women can share\, listen\, and know they’re not alone.\nRegister here
URL:https://epilepsyallianceamerica.org/event/womens-support-group-young-adults-with-epilepsy/2026-04-02/
CATEGORIES:Support Group
ATTACH;FMTTYPE=image/png:https://epilepsyallianceamerica.org/wp-content/uploads/2025/03/Support-Group-2.png
LOCATION:
END:VEVENT
BEGIN:VEVENT
DTSTART;TZID=America/Los_Angeles:20260401T173000
DTEND;TZID=America/Los_Angeles:20260401T183000
DTSTAMP:20260420T052204
CREATED:20250716T182224Z
LAST-MODIFIED:20250819T195328Z
UID:10002253-1775064600-1775068200@epilepsyallianceamerica.org
SUMMARY:Young Adult Peer Support Group
DESCRIPTION:Join our one-hour virtual weekly hang-outs to laugh\, cry\, listen\, or just simply connect with people who “get it”. \nRegister here \n \nHosted by Young Adults With Epilepsy
URL:https://epilepsyallianceamerica.org/event/young-adult-support-group-2/2026-04-01/
CATEGORIES:Support Group
ATTACH;FMTTYPE=image/png:https://epilepsyallianceamerica.org/wp-content/uploads/2025/03/Support-Group-2.png
END:VEVENT
BEGIN:VEVENT
DTSTART;TZID=America/Los_Angeles:20260331T163000
DTEND;TZID=America/Los_Angeles:20260331T173000
DTSTAMP:20260420T052204
CREATED:20250714T201748Z
LAST-MODIFIED:20250916T191543Z
UID:10001786-1774974600-1774978200@epilepsyallianceamerica.org
SUMMARY:Young Adult Peer Support Group
DESCRIPTION:Join our one-hour virtual weekly hang-outs to laugh\, cry\, listen\, or just simply connect with people who “get it”. \n \nRegister here \nHosted by Young Adults With Epilepsy \n 
URL:https://epilepsyallianceamerica.org/event/young-adult-support-group/2026-03-31/
CATEGORIES:Support Group
ATTACH;FMTTYPE=image/png:https://epilepsyallianceamerica.org/wp-content/uploads/2025/03/Support-Group-2.png
LOCATION:
END:VEVENT
BEGIN:VEVENT
DTSTART;TZID=America/Los_Angeles:20260330T173000
DTEND;TZID=America/Los_Angeles:20260330T183000
DTSTAMP:20260420T052204
CREATED:20250714T201358Z
LAST-MODIFIED:20250819T195624Z
UID:10002038-1774891800-1774895400@epilepsyallianceamerica.org
SUMMARY:Young Adult Peer Support Group - Spanish
DESCRIPTION:Lunes Grupo de Apoyo\n\nÚnete a nuestros encuentros virtuales semanales de una hora para reír\, llorar\, escuchar o simplemente conectar con personas que “lo entienden”. \nHosted by Young Adults With Epilepsy 
URL:https://epilepsyallianceamerica.org/event/young-adult-support-group-spanish/2026-03-30/
CATEGORIES:Support Group
ATTACH;FMTTYPE=image/png:https://epilepsyallianceamerica.org/wp-content/uploads/2025/03/Support-Group-2.png
END:VEVENT
BEGIN:VEVENT
DTSTART;TZID=America/Los_Angeles:20260330T170000
DTEND;TZID=America/Los_Angeles:20260330T180000
DTSTAMP:20260420T052204
CREATED:20250819T195103Z
LAST-MODIFIED:20250821T143033Z
UID:10002817-1774890000-1774893600@epilepsyallianceamerica.org
SUMMARY:Young Adult Peer Support Group
DESCRIPTION:Join our one-hour virtual weekly hang-outs to laugh\, cry\, listen\, or just simply connect with people who ‘get it.’ Our virtual support groups provide a safe space to share experiences with others living with epilepsy. \nRegister here
URL:https://epilepsyallianceamerica.org/event/peer-support-group-young-adults/2026-03-30/
CATEGORIES:Support Group
ATTACH;FMTTYPE=image/png:https://epilepsyallianceamerica.org/wp-content/uploads/2025/03/Support-Group-2.png
END:VEVENT
BEGIN:VEVENT
DTSTART;TZID=America/Los_Angeles:20260329T180000
DTEND;TZID=America/Los_Angeles:20260329T190000
DTSTAMP:20260420T052204
CREATED:20251002T152259Z
LAST-MODIFIED:20251002T190105Z
UID:10003212-1774807200-1774810800@epilepsyallianceamerica.org
SUMMARY:Men's Peer Support Group
DESCRIPTION:The YAWE Men’s Group\, led by Austin\, is a place for young men with epilepsy to come together\, connect\, and support one another.\n\nJust like our other YAWE groups\, the format is open and friendly — but this group also makes space for conversations about experiences that are unique to men. It’s a welcoming community where guys can share\, listen\, and know they’re not alone.\n\n\nHosted by Young Adults With Epilepsy
URL:https://epilepsyallianceamerica.org/event/mens-peer-support-group/2026-03-29/
CATEGORIES:Support Group
ATTACH;FMTTYPE=image/png:https://epilepsyallianceamerica.org/wp-content/uploads/2025/03/Support-Group-2.png
END:VEVENT
BEGIN:VEVENT
DTSTART;TZID=America/New_York:20260328T083000
DTEND;TZID=America/New_York:20260328T103000
DTSTAMP:20260420T052204
CREATED:20260322T225028Z
LAST-MODIFIED:20260322T225028Z
UID:10003867-1774686600-1774693800@epilepsyallianceamerica.org
SUMMARY:Walk for Epilepsy: Pinellas
DESCRIPTION:This event is held to increase awareness and support for children\, teens\, young adults with epilepsy and their families living in West Central Florida. \nServing children\, teens and young adults with epilepsy and their families in west central Florida for over 50 years! \n100% of proceeds support our programs and services in west central Florida including: \n\nScholarships to Camp Boggy Creek\, a medically-supervised camp co-founded by the late General Norman Schwarzkopf & Paul Newman\nInformation and Referral Services\nCollege & Medical Scholarships\nSeizure Education and First Aid Training\nSupport Groups
URL:https://epilepsyallianceamerica.org/event/walk-for-epilepsy-pinellas/
LOCATION:Lake Seminole Park\, 10015 Park Blvd\, Seminole\, FL
CATEGORIES:Fundraising Event,Walk Event
ATTACH;FMTTYPE=image/png:https://epilepsyallianceamerica.org/wp-content/uploads/2025/03/Walk.png
ORGANIZER;CN="Epilepsy Services Foundation (Tampa%2C Florida)":MAILTO:info@epilepsysf.org
END:VEVENT
BEGIN:VEVENT
DTSTART;TZID=America/Los_Angeles:20260326T180000
DTEND;TZID=America/Los_Angeles:20260326T190000
DTSTAMP:20260420T052204
CREATED:20250723T174551Z
LAST-MODIFIED:20250819T195723Z
UID:10002512-1774548000-1774551600@epilepsyallianceamerica.org
SUMMARY:Young Adult Peer Support Group
DESCRIPTION:Join our one-hour virtual weekly hang-outs with Austin to laugh\, cry\, listen\, or just simply connect with people who “get it”. \nRegister here \n \nHosted by Young Adults With Epilepsy
URL:https://epilepsyallianceamerica.org/event/young-adults-peer-support-group/2026-03-26/
CATEGORIES:Support Group
ATTACH;FMTTYPE=image/png:https://epilepsyallianceamerica.org/wp-content/uploads/2025/03/Support-Group-2.png
END:VEVENT
BEGIN:VEVENT
DTSTART;TZID=America/Los_Angeles:20260326T170000
DTEND;TZID=America/Los_Angeles:20260326T180000
DTSTAMP:20260420T052204
CREATED:20251020T165052Z
LAST-MODIFIED:20251020T165122Z
UID:10003476-1774544400-1774548000@epilepsyallianceamerica.org
SUMMARY:Women's Support Group - Young Adults with Epilepsy
DESCRIPTION:The YAWE Women’s Group\, led by Jordan\, is a place for young women with epilepsy to come together\, connect\, and share their life experiences.Just like our other YAWE groups\, the format is open and friendly — but this group makes space for conversations about experiences that are unique to women such as hormones\, motherhood\, and stigma in the medical system. It’s a welcoming community where women can share\, listen\, and know they’re not alone.\nRegister here
URL:https://epilepsyallianceamerica.org/event/womens-support-group-young-adults-with-epilepsy/2026-03-26/
CATEGORIES:Support Group
ATTACH;FMTTYPE=image/png:https://epilepsyallianceamerica.org/wp-content/uploads/2025/03/Support-Group-2.png
LOCATION:
END:VEVENT
BEGIN:VEVENT
DTSTART;TZID=America/Los_Angeles:20260325T173000
DTEND;TZID=America/Los_Angeles:20260325T183000
DTSTAMP:20260420T052204
CREATED:20250716T182224Z
LAST-MODIFIED:20250819T195328Z
UID:10002252-1774459800-1774463400@epilepsyallianceamerica.org
SUMMARY:Young Adult Peer Support Group
DESCRIPTION:Join our one-hour virtual weekly hang-outs to laugh\, cry\, listen\, or just simply connect with people who “get it”. \nRegister here \n \nHosted by Young Adults With Epilepsy
URL:https://epilepsyallianceamerica.org/event/young-adult-support-group-2/2026-03-25/
CATEGORIES:Support Group
ATTACH;FMTTYPE=image/png:https://epilepsyallianceamerica.org/wp-content/uploads/2025/03/Support-Group-2.png
END:VEVENT
END:VCALENDAR