BEGIN:VCALENDAR
VERSION:2.0
PRODID:-//Epilepsy Alliance America - ECPv6.15.17.1//NONSGML v1.0//EN
CALSCALE:GREGORIAN
METHOD:PUBLISH
X-ORIGINAL-URL:https://epilepsyallianceamerica.org
X-WR-CALDESC:Events for Epilepsy Alliance America
REFRESH-INTERVAL;VALUE=DURATION:PT1H
X-Robots-Tag:noindex
X-PUBLISHED-TTL:PT1H
BEGIN:VTIMEZONE
TZID:America/Chicago
BEGIN:DAYLIGHT
TZOFFSETFROM:-0600
TZOFFSETTO:-0500
TZNAME:CDT
DTSTART:20240310T080000
END:DAYLIGHT
BEGIN:STANDARD
TZOFFSETFROM:-0500
TZOFFSETTO:-0600
TZNAME:CST
DTSTART:20241103T070000
END:STANDARD
BEGIN:DAYLIGHT
TZOFFSETFROM:-0600
TZOFFSETTO:-0500
TZNAME:CDT
DTSTART:20250309T080000
END:DAYLIGHT
BEGIN:STANDARD
TZOFFSETFROM:-0500
TZOFFSETTO:-0600
TZNAME:CST
DTSTART:20251102T070000
END:STANDARD
BEGIN:DAYLIGHT
TZOFFSETFROM:-0600
TZOFFSETTO:-0500
TZNAME:CDT
DTSTART:20260308T080000
END:DAYLIGHT
BEGIN:STANDARD
TZOFFSETFROM:-0500
TZOFFSETTO:-0600
TZNAME:CST
DTSTART:20261101T070000
END:STANDARD
END:VTIMEZONE
BEGIN:VEVENT
DTSTART;TZID=America/Chicago:20250408T170000
DTEND;TZID=America/Chicago:20250408T180000
DTSTAMP:20260425T073426
CREATED:20250407T151803Z
LAST-MODIFIED:20250408T210551Z
UID:10001365-1744131600-1744135200@epilepsyallianceamerica.org
SUMMARY:In Person Support Group: Springfield\, IL
DESCRIPTION:In person support group hosted by Epilepsy Advocacy Network on the 2nd Tuesday of each month at 5 pm.
URL:https://epilepsyallianceamerica.org/event/in-person-support-group-springfield-il/2025-04-08/
CATEGORIES:Support Group
ATTACH;FMTTYPE=image/png:https://epilepsyallianceamerica.org/wp-content/uploads/2025/03/Support-Group-1.png
END:VEVENT
END:VCALENDAR