BEGIN:VCALENDAR
VERSION:2.0
PRODID:-//Epilepsy Alliance America - ECPv6.15.17.1//NONSGML v1.0//EN
CALSCALE:GREGORIAN
METHOD:PUBLISH
X-ORIGINAL-URL:https://epilepsyallianceamerica.org
X-WR-CALDESC:Events for Epilepsy Alliance America
REFRESH-INTERVAL;VALUE=DURATION:PT1H
X-Robots-Tag:noindex
X-PUBLISHED-TTL:PT1H
BEGIN:VTIMEZONE
TZID:America/New_York
BEGIN:DAYLIGHT
TZOFFSETFROM:-0500
TZOFFSETTO:-0400
TZNAME:EDT
DTSTART:20240310T070000
END:DAYLIGHT
BEGIN:STANDARD
TZOFFSETFROM:-0400
TZOFFSETTO:-0500
TZNAME:EST
DTSTART:20241103T060000
END:STANDARD
BEGIN:DAYLIGHT
TZOFFSETFROM:-0500
TZOFFSETTO:-0400
TZNAME:EDT
DTSTART:20250309T070000
END:DAYLIGHT
BEGIN:STANDARD
TZOFFSETFROM:-0400
TZOFFSETTO:-0500
TZNAME:EST
DTSTART:20251102T060000
END:STANDARD
BEGIN:DAYLIGHT
TZOFFSETFROM:-0500
TZOFFSETTO:-0400
TZNAME:EDT
DTSTART:20260308T070000
END:DAYLIGHT
BEGIN:STANDARD
TZOFFSETFROM:-0400
TZOFFSETTO:-0500
TZNAME:EST
DTSTART:20261101T060000
END:STANDARD
END:VTIMEZONE
BEGIN:VEVENT
DTSTART;TZID=America/New_York:20250204T120000
DTEND;TZID=America/New_York:20250204T130000
DTSTAMP:20260423T052959
CREATED:20250625T151414Z
LAST-MODIFIED:20250702T182816Z
UID:10001678-1738670400-1738674000@epilepsyallianceamerica.org
SUMMARY:Selecting Seizure Detection Devices: Factors To Consider
DESCRIPTION:Join Katie Gaughan from the Danny Did Foundation and Epilepsy Services New Jersey as they discuss seizure detection devices and how to choose the one that works best for your needs.
URL:https://epilepsyallianceamerica.org/event/selecting-seizure-detection-devices-factors-to-consider/
CATEGORIES:Virtual Education Program
ATTACH;FMTTYPE=image/png:https://epilepsyallianceamerica.org/wp-content/uploads/2025/01/Webinar.png
ORGANIZER;CN="Epilepsy Services of New Jersey":MAILTO:aracioppi@epilepsynj.org
END:VEVENT
END:VCALENDAR