BEGIN:VCALENDAR
VERSION:2.0
PRODID:-//Epilepsy Alliance America - ECPv6.15.17.1//NONSGML v1.0//EN
CALSCALE:GREGORIAN
METHOD:PUBLISH
X-ORIGINAL-URL:https://epilepsyallianceamerica.org
X-WR-CALDESC:Events for Epilepsy Alliance America
REFRESH-INTERVAL;VALUE=DURATION:PT1H
X-Robots-Tag:noindex
X-PUBLISHED-TTL:PT1H
BEGIN:VTIMEZONE
TZID:America/New_York
BEGIN:DAYLIGHT
TZOFFSETFROM:-0500
TZOFFSETTO:-0400
TZNAME:EDT
DTSTART:20220313T070000
END:DAYLIGHT
BEGIN:STANDARD
TZOFFSETFROM:-0400
TZOFFSETTO:-0500
TZNAME:EST
DTSTART:20221106T060000
END:STANDARD
BEGIN:DAYLIGHT
TZOFFSETFROM:-0500
TZOFFSETTO:-0400
TZNAME:EDT
DTSTART:20230312T070000
END:DAYLIGHT
BEGIN:STANDARD
TZOFFSETFROM:-0400
TZOFFSETTO:-0500
TZNAME:EST
DTSTART:20231105T060000
END:STANDARD
BEGIN:DAYLIGHT
TZOFFSETFROM:-0500
TZOFFSETTO:-0400
TZNAME:EDT
DTSTART:20240310T070000
END:DAYLIGHT
BEGIN:STANDARD
TZOFFSETFROM:-0400
TZOFFSETTO:-0500
TZNAME:EST
DTSTART:20241103T060000
END:STANDARD
END:VTIMEZONE
BEGIN:VEVENT
DTSTART;TZID=America/New_York:20230707T080000
DTEND;TZID=America/New_York:20230707T170000
DTSTAMP:20260422T070118
CREATED:20250819T192226Z
LAST-MODIFIED:20250819T192226Z
UID:10002784-1688716800-1688749200@epilepsyallianceamerica.org
SUMMARY:Driving & Epilepsy
DESCRIPTION:Upstate University Hospital Neurology Dr. Shahram Izadyar discusses the critically important topic of driving when you have the diagnosis of epilepsy. \nThis webinar was recorded in July 2023 and was hosted by Epilepsy Alliance of West Central NY.
URL:https://epilepsyallianceamerica.org/event/driving-epilepsy/
CATEGORIES:Virtual Education Program
ATTACH;FMTTYPE=image/png:https://epilepsyallianceamerica.org/wp-content/uploads/2025/01/Webinar.png
ORGANIZER;CN="Epilepsy Alliance West Central New York (a part of Empowering People's Independence)":MAILTO:mradell@epiny.org
END:VEVENT
END:VCALENDAR